Workbook

Sheet current
A3: year | B3: outlays | C3: % increase from previous year
D4: 2013 - 2020 come from SSA projections
A5: 2013 | B5: ='spending growth'!E4 -> 814
A6: =A5+1 -> 2014 | B6: ='spending growth'!E5 -> 858.23182 | C6: =B6/B5 -> 1.0543388
A7: =A6+1 -> 2015 | B7: ='spending growth'!E6 -> 906.70602 | C7: =B7/B6 -> 1.0564815
A8: =A7+1 -> 2016 | B8: ='spending growth'!E7 -> 963.72281 | C8: =B8/B7 -> 1.0628834
A9: =A8+1 -> 2017 | B9: ='spending growth'!E8 -> 1026.2188 | C9: =B9/B8 -> 1.0648485
A10: =A9+1 -> 2018 | B10: ='spending growth'!E9 -> 1094.7015 | C10: =B10/B9 -> 1.0667331
A11: =A10+1 -> 2019 | B11: ='spending growth'!E10 -> 1174.2283 | C11: =B11/B10 -> 1.0726471
A12: =A11+1 -> 2020 | B12: ='spending growth'!E11 -> 1258.9711 | C12: =B12/B11 -> 1.0721689
A13: =A12+1 -> 2021 | B13: ='spending growth'!E12 -> 1349.2526 | C13: =B13/B12 -> 1.0717105
A14: =A13+1 -> 2022 | B14: ='spending growth'!E13 -> 1442.8058 | C14: =B14/B13 -> 1.069337
A15: =A14+1 -> 2023 | B15: ='spending growth'!E14 -> 1542.3411 | C15: =B15/B14 -> 1.0689873
A16: =A15+1 -> 2024 | B16: ='spending growth'!E15 -> 1645.3465 | C16: =B16/B15 -> 1.0667851
A17: =A16+1 -> 2025 | B17: ='spending growth'!E16 -> 1754.7965 | C17: =B17/B16 -> 1.066521
... A60: =A59+1 -> 2068 | B60: ='spending growth'!E59 -> 14547.152 | C60: =B60/B59 -> 1.05

Sheet proposal 45
A3: year | B3: Current Outlays | C3: change based on this proposal | D3: Proposed Outlays
A5: 2013 | B5: =current!B5 -> 814 | C5: 0 | D5: =B5*(1-C5) -> 814
A6: =A5+1 -> 2014 | B6: =current!B6 -> 858.23182 | C6: 0 | D6: =B6*(1-C6) -> 858.23182 | G6: start | I6: <45 will not have ss
A7: =A6+1 -> 2015 | B7: =current!B7 -> 906.70602 | C7: 0 | D7: =B7*(1-C7) -> 906.70602
A8: =A7+1 -> 2016 | B8: =current!B8 -> 963.72281 | C8: 0 | D8: =B8*(1-C8) -> 963.72281
A9: =A8+1 -> 2017 | B9: =current!B9 -> 1026.2188 | C9: 0 | D9: =B9*(1-C9) -> 1026.2188
A10: =A9+1 -> 2018 | B10: =current!B10 -> 1094.7015 | C10: 0 | D10: =B10*(1-C10) -> 1094.7015
A11: =A10+1 -> 2019 | B11: =current!B11 -> 1174.2283 | C11: 0 | D11: =B11*(1-C11) -> 1174.2283
A12: =A11+1 -> 2020 | B12: =current!B12 -> 1258.9711 | C12: 0 | D12: =B12*(1-C12) -> 1258.9711
A13: =A12+1 -> 2021 | B13: =current!B13 -> 1349.2526 | C13: 0 | D13: =B13*(1-C13) -> 1349.2526
A14: =A13+1 -> 2022 | B14: =current!B14 -> 1442.8058 | C14: 0 | D14: =B14*(1-C14) -> 1442.8058
A15: =A14+1 -> 2023 | B15: =current!B15 -> 1542.3411 | C15: 0 | D15: =B15*(1-C15) -> 1542.3411
A16: =A15+1 -> 2024 | B16: =current!B16 -> 1645.3465 | C16: 0 | D16: =B16*(1-C16) -> 1645.3465
A17: =A16+1 -> 2025 | B17: =current!B17 -> 1754.7965 | C17: 0 | D17: =B17*(1-C17) -> 1754.7965
A18: =A17+1 -> 2026 | B18: =current!B18 -> 1867.9069 | C18: 0 | D18: =B18*(1-C18) -> 1867.9069
... A24: =A23+1 -> 2032 | B24: =current!B24 -> 2626.4201 | C24: 0 | D24: =B24*(1-C24) -> 2626.4201
A25: =A24+1 -> 2033 | B25: =current!B25 -> 2766.6659 | C25: 0 | D25: =B25*(1-C25) -> 2766.6659 | G25: last of participants enter (65 yrs old)
A26: =A25+1 -> 2034 | B26: =current!B26 -> 2909.6847 | C26: =I29 -> 0.02 | D26: =B26*(1-C26) -> 2851.491 | G26: start dropping off | I26: those entering will get no benefits | M26: reduce by 2.0% each year to account for no new enrollees | S26: reduce another 2% for mortality
A27: =A26+1 -> 2035 | B27: =current!B27 -> 3060.0886 | C27: =C26+$I$29 -> 0.04 | D27: =B27*(1-C27) -> 2937.6851 | G27: mortality increase per year | I27: 0.02 | J27: per year
A28: =A27+1 -> 2036 | B28: =current!B28 -> 3213.0931 | C28: =C27+$I$29 -> 0.06 | D28: =B28*(1-C28) -> 3020.3075
A29: =A28+1 -> 2037 | B29: =current!B29 -> 3368.3237 | C29: =C28+$I$29 -> 0.08 | D29: =B29*(1-C29) -> 3098.8578 | I29: =SUM(I27:I28) -> 0.02
A30: =A29+1 -> 2038 | B30: =current!B30 -> 3531.0447 | C30: =C29+$I$29 -> 0.1 | D30: =B30*(1-C30) -> 3177.9402
A31: =A30+1 -> 2039 | B31: =current!B31 -> 3695.6369 | C31: =C30+$I$29 -> 0.12 | D31: =B31*(1-C31) -> 3252.1605
A32: =A31+1 -> 2040 | B32: =current!B32 -> 3867.8607 | C32: =C31+$I$29 -> 0.14 | D32: =B32*(1-C32) -> 3326.3602
A33: =A32+1 -> 2041 | B33: =current!B33 -> 4048.0679 | C33: =C32+$I$29 -> 0.16 | D33: =B33*(1-C33) -> 3400.377
A34: =A33+1 -> 2042 | B34: =current!B34 -> 4229.7035 | C34: =C33+$I$29 -> 0.18 | D34: =B34*(1-C34) -> 3468.3569
A35: =A34+1 -> 2043 | B35: =current!B35 -> 4426.6513 | C35: =C34+$I$29 -> 0.2 | D35: =B35*(1-C35) -> 3541.321
A36: =A35+1 -> 2044 | B36: =current!B36 -> 4640.3517 | C36: =C35+$I$39 -> 0.25 | D36: =B36*(1-C36) -> 3480.2637 | G36: reduce another 5% for mortality
A37: =A36+1 -> 2045 | B37: =current!B37 -> 4856.3417 | C37: =C36+$I$39 -> 0.3 | D37: =B37*(1-C37) -> 3399.4392 | G37: mortality increase per year | I37: 0.05 | J37: per year | N37: 0.05
A38: =A37+1 -> 2046 | B38: =current!B38 -> 5082.3299 | C38: =C37+$I$39 -> 0.35 | D38: =B38*(1-C38) -> 3303.5144
A39: =A38+1 -> 2047 | B39: =current!B39 -> 5318.776 | C39: =C38+$I$39 -> 0.4 | D39: =B39*(1-C39) -> 3191.2656 | I39: =SUM(I37:I38) -> 0.05
A40: =A39+1 -> 2048 | B40: =current!B40 -> 5575.4379 | C40: =C39+$I$39 -> 0.45 | D40: =B40*(1-C40) -> 3066.4908
A41: =A40+1 -> 2049 | B41: =current!B41 -> 5834.7282 | C41: =C40+$I$39 -> 0.5 | D41: =B41*(1-C41) -> 2917.3641
A42: =A41+1 -> 2050 | B42: =current!B42 -> 6116.2368 | C42: =C41+$I$39 -> 0.55 | D42: =B42*(1-C42) -> 2752.3066
A43: =A42+1 -> 2051 | B43: =current!B43 -> 6411.3094 | C43: =C42+$I$39 -> 0.6 | D43: =B43*(1-C43) -> 2564.5238
A44: =A43+1 -> 2052 | B44: =current!B44 -> 6720.5987 | C44: =C43+$I$37 -> 0.65 | D44: =B44*(1-C44) -> 2352.2096
A45: =A44+1 -> 2053 | B45: =current!B45 -> 7044.7887 | C45: =C44+$I$37 -> 0.7 | D45: =B45*(1-C45) -> 2113.4366
A46: =A45+1 -> 2054 | B46: =current!B46 -> 7397.0281 | C46: =C45+$I$37 -> 0.75 | D46: =B46*(1-C46) -> 1849.257
A47: =A46+1 -> 2055 | B47: =current!B47 -> 7766.8795 | C47: =C46+$I$37 -> 0.8 | D47: =B47*(1-C47) -> 1553.3759 | G47: mortality increase per year | I47: 0.14 | J47: per year
A48: =A47+1 -> 2056 | B48: =current!B48 -> 8155.2235 | C48: =C47+$I$37 -> 0.85 | D48: =B48*(1-C48) -> 1223.2835 | G48: but keep it at 0.05
...

Sheet spending growth
B1: Projected growth from SSA
C2: % of GDP | D2: gdp | E2: OASDI outlays | H2: gdp growth rate | J2: 0.05
B3: 2012 | C3: 0.0484 | M3: projected
B4: 2013 | C4: 0.0484 | D4: =E4/C4 -> 16818.182 | E4: 814 | J4: % added above GDP/Inflation | M4: 2013 | N4: 814 | Q4: 0.0041322314
B5: 2014 | C5: 0.0486 | D5: =D4*(1+$J$2) -> 17659.091 | E5: =D5*C5 -> 858.23182 | J5: =C5/C4-1 -> 0.0041322314 | M5: =M4+1 -> 2014 | N5: 861 | Q5: 0.0061728395
B6: 2015 | C6: 0.0489 | D6: =D5*(1+$J$2) -> 18542.045 | E6: =D6*C6 -> 906.70602 | J6: =C6/C5-1 -> 0.0061728395 | M6: =M5+1 -> 2015 | N6: 911 | Q6: 0.012269939
B7: 2016 | C7: 0.0495 | D7: =D6*(1+$J$2) -> 19469.148 | E7: =D7*C7 -> 963.72281 | J7: =C7/C6-1 -> 0.012269939 | M7: =M6+1 -> 2016 | N7: 965 | Q7: 0.014141414
B8: 2017 | C8: 0.0502 | D8: =D7*(1+$J$2) -> 20442.605 | E8: =D8*C8 -> 1026.2188 | J8: =C8/C7-1 -> 0.014141414 | M8: =M7+1 -> 2017 | N8: 1023 | Q8: 0.015936255
B9: 2018 | C9: 0.051 | D9: =D8*(1+$J$2) -> 21464.735 | E9: =D9*C9 -> 1094.7015 | J9: =C9/C8-1 -> 0.015936255 | M9: =M8+1 -> 2018 | N9: 1087 | Q9: 0.021568627
B10: 2019 | C10: 0.0521 | D10: =D9*(1+$J$2) -> 22537.972 | E10: =D10*C10 -> 1174.2283 | J10: =C10/C9-1 -> 0.021568627 | M10: =M9+1 -> 2019 | N10: 1160 | Q10: 0.021113244
B11: 2020 | C11: 0.0532 | D11: =D10*(1+$J$2) -> 23664.871 | E11: =D11*C11 -> 1258.9711 | J11: =C11/C10-1 -> 0.021113244 | M11: =M10+1 -> 2020 | N11: 1241 | Q11: 0.020676692
B12: 2021 | C12: 0.0543 | D12: =D11*(1+$J$2) -> 24848.114 | E12: =D12*C12 -> 1349.2526 | J12: =C12/C11-1 -> 0.020676692 | Q12: 0.018416206
B13: 2022 | C13: 0.0553 | D13: =D12*(1+$J$2) -> 26090.52 | E13: =D13*C13 -> 1442.8058 | J13: =C13/C12-1 -> 0.018416206 | Q13: 0.018083183
B14: 2023 | C14: 0.0563 | D14: =D13*(1+$J$2) -> 27395.046 | E14: =D14*C14 -> 1542.3411 | J14: =C14/C13-1 -> 0.018083183 | Q14: 0.01598579
B15: 2024 | C15: 0.0572 | D15: =D14*(1+$J$2) -> 28764.798 | E15: =D15*C15 -> 1645.3465 | J15: =C15/C14-1 -> 0.01598579 | Q15: 0.015734266
B16: 2025 | C16: 0.0581 | D16: =D15*(1+$J$2) -> 30203.038 | E16: =D16*C16 -> 1754.7965 | J16: =C16/C15-1 -> 0.015734266 | Q16: 0.013769363
B17: 2026 | C17: 0.0589 | D17: =D16*(1+$J$2) -> 31713.19 | E17: =D17*C17 -> 1867.9069 | J17: =C17/C16-1 -> 0.013769363 | Q17: 0.01188455
B18: 2027 | C18: 0.0596 | D18: =D17*(1+$J$2) -> 33298.85 | E18: =D18*C18 -> 1984.6114 | J18: =C18/C17-1 -> 0.01188455 | Q18: 0.010067114
B19: 2028 | C19: 0.0602 | D19: =D18*(1+$J$2) -> 34963.792 | E19: =D19*C19 -> 2104.8203 | J19: =C19/C18-1 -> 0.010067114 | Q19: 0.0099667774
B20: 2029 | C20: 0.0608 | D20: =D19*(1+$J$2) -> 36711.982 | E20: =D20*C20 -> 2232.0885 | J20: =C20/C19-1 -> 0.0099667774 | Q20: 0.0065789474
B21: 2030 | C21: 0.0612 | D21: =D20*(1+$J$2) -> 38547.581 | E21: =D21*C21 -> 2359.1119 | J21: =C21/C20-1 -> 0.0065789474 | Q21: 0.0049019608
B22: 2031 | C22: 0.0615 | D22: =D21*(1+$J$2) -> 40474.96 | E22: =D22*C22 -> 2489.21 | J22: =C22/C21-1 -> 0.0049019608 | Q22: 0.0048780488
B23: 2032 | C23: 0.0618 | D23: =D22*(1+$J$2) -> 42498.708 | E23: =D23*C23 -> 2626.4201 | J23: =C23/C22-1 -> 0.0048780488 | Q23: 0.003236246
... B75: 2084 | C75: 0.06 | D75: =D74*(1+$J$2) -> 537303.01 | E75: =D75*C75 -> 32238.181 | J75: =C75/C74-1 -> 0.0016694491 | Q75: 0.0016666667
B76: 2085 | C76: 0.0601 | D76: =D75*(1+$J$2) -> 564168.17 | E76: =D76*C76 -> 33906.507 | J76: =C76/C75-1 -> 0.0016666667
