Workbook

Sheet Sheet1
A1: Date | B1: Out of Bed Weight | C1: Pre-Breakfast Blood Sugar | D1: Breakfast | E1: Snack | F1: Pre-Lunch Blood Sugar | G1: Lunch | H1: Snack | I1: Pre-Dinner Blood Sugar | J1: Dinner | K1: Snack | L1: Bedtime Blood Sugar | M1: Notes
A2: 41512 | B2: 165 | C2: 134 | D2: Atkins shake | E2: diced peppers, onions and tomatoes. One celery stalk | F2: 102 | G2: Atkins shake | H2: diced bell peppers, broccoli, celery | I2: 106 | J2: Atkins shake | K2: tomato soup | L2: 111 | M2: Stopped Janumet on 25-AUG-13. drank 3 cups of black coffee, 4L water
A3: =A2+1 -> 41513 | B3: 161 | C3: 122 | D3: Atkins shake | E3: diced peppers, onions and tomatoes. One celery stalk | F3: 121 | G3: Atkins shake | H3: broccoli, cauliflower, carrots | I3: 96 | J3: Atkins shake | K3: salad | L3: 101 | M3: 2 cups black coffee, 4L water, drank half a shake before bed
A4: =A3+1 -> 41514 | B4: 160.5 | C4: 120 | D4: Atkins shake | E4: part of subway salad (lettuce, peppers, tomoatoes, onions, cucumbers) | F4: 120 | G4: Atkins shake | H4: part of subway salad (lettuce, peppers, tomoatoes, onions, cucumbers) and pickle slice | I4: 90 | J4: Atkins shake | K4: carrots | L4: 100 | M4: 2 cups black coffee, 4L water, drank half a shake before bed
A5: =A4+1 -> 41515 | B5: 159.5 | C5: 104 | D5: Atkins shake | E5: tomato soup. One celery stalk | F5: 108 | G5: Atkins shake | H5: part of subway salad (lettuce, peppers, tomoatoes, onions, cucumbers) and pickle slice | I5: 74 | J5: Atkins shake | K5: part of subway salad (lettuce, peppers, tomoatoes, onions, cucumbers) | L5: 88 | M5: 2 cups black coffee, 4L water, drank half a shake before bed
A6: =A5+1 -> 41516 | B6: 159 | C6: 87 | D6: Atkins shake | E6: diced peppers, onions and tomatoes. One celery stalk | F6: 93 | G6: Atkins shake | H6: part of subway salad (lettuce, peppers, tomoatoes, onions, cucumbers) and pickle slice | I6: 84 | J6: Atkins shake | K6: onion soup | L6: 95 | M6: 2 cups black coffee, 4L water, drank half of an atkins shake after morning snack, 1 bourbon drink in evening
A7: =A6+1 -> 41517 | B7: 158 | C7: 80 | D7: Atkins shake | E7: scrambled egg | F7: 93 | G7: Atkins shake | H7: part of subway salad (lettuce, peppers, tomoatoes, onions, cucumbers) | I7: 72 | J7: Atkins shake | K7: tomato soup, cauliflower and jalepenos | L7: 81 | M7: 2 cups black coffee, 4L water, 1 bourbon drink in evening, drank half a shake b4 bed
A8: =A7+1 -> 41518 | B8: 158 | C8: 68 | D8: Atkins shake | E8: scrambled egg | F8: 93 | G8: Atkins shake | H8: part of subway salad (lettuce, peppers, tomoatoes, onions, cucumbers), carrots and celery | I8: 65 | J8: Atkins shake | K8: subway salad with grilled chicken and rasberry vinagrette dressing | L8: 111 | M8: 2 cups black coffee, 4L water, 1 bourbon drink in evening, drank half a shake b4 bed
A9: =A8+1 -> 41519 | B9: 157 | C9: 77 | D9: Atkins shake | E9: 2 scrambled eggs | F9: 87 | G9: Atkins shake | H9: turkey hotdog and 1 piece of 10g carb bread | J9: grilled chicken salad, balsamic vinaigrette, onions, tomato, egg, bacon | K9: Atkins Shake | L9: 85 | M9: 2 cups black coffee, 4L water, 1 bourbon drink in evening, drank half a shake b4 bed. 1 hour after hotdog/bun lunch blood sugar was 133. 1 hour after grilled chicken salad blood sugar was 82.
A10: =A9+1 -> 41520 | B10: 157 | C10: 80 | D10: Atkins shake | E10: 2 scrambled eggs | F10: 85 | I10: 88 | J10: pork chop, black beans, tomatos, cauliflower and broccoli | M10: 111 one hour after dinner and 100 before bed.
A11: =A10+1 -> 41521
A12: =A11+1 -> 41522
A13: =A12+1 -> 41523
A14: =A13+1 -> 41524
A15: =A14+1 -> 41525
A16: =A15+1 -> 41526
A17: =A16+1 -> 41527
A18: =A17+1 -> 41528
A19: =A18+1 -> 41529
A20: =A19+1 -> 41530
A21: =A20+1 -> 41531
A22: =A21+1 -> 41532
... A33: =A32+1 -> 41543

Sheet Sheet2
A1: day | B1: Blood Sugar Measurement
A2: 41512 | B2: =Sheet1!$C$2 -> 134
A3: 41512 | B3: =Sheet1!$F$2 -> 102
A4: 41512 | B4: =Sheet1!$I$2 -> 106
A5: 41512 | B5: =Sheet1!$L$2 -> 111
A6: =A5+1 -> 41513 | B6: =Sheet1!$C$3 -> 122
A7: =A6 -> 41513 | B7: =Sheet1!$F$3 -> 121
A8: =A7 -> 41513 | B8: =Sheet1!$I$3 -> 96
A9: =A8 -> 41513 | B9: =Sheet1!$L$3 -> 101
A10: =A9+1 -> 41514 | B10: =Sheet1!$C$4 -> 120
A11: =A10 -> 41514 | B11: =Sheet1!$F$4 -> 120
A12: =A11 -> 41514 | B12: =Sheet1!$I$4 -> 90
A13: =A12 -> 41514 | B13: =Sheet1!$L$4 -> 100
A14: =A13+1 -> 41515 | B14: =Sheet1!$C$5 -> 104
A15: =A14 -> 41515 | B15: =Sheet1!$F$5 -> 108
A16: =A15 -> 41515 | B16: =Sheet1!$I$5 -> 74
A17: =A16 -> 41515 | B17: =Sheet1!$L$5 -> 88
A18: =A17+1 -> 41516 | B18: =Sheet1!$C$6 -> 87
A19: =A18 -> 41516 | B19: =Sheet1!$F$6 -> 93
A20: =A19 -> 41516 | B20: =Sheet1!$I$6 -> 84
A21: =A20 -> 41516 | B21: =Sheet1!$L$6 -> 95
A22: =A21+1 -> 41517 | B22: =Sheet1!$C$7 -> 80
A23: =A22 -> 41517 | B23: =Sheet1!$F$7 -> 93
A24: =A23 -> 41517 | B24: =Sheet1!$I$7 -> 72
A25: =A24 -> 41517 | B25: =Sheet1!$L$7 -> 81
A26: =A25+1 -> 41518 | B26: =Sheet1!$C$8 -> 68
A27: =A26 -> 41518 | B27: =Sheet1!$F$8 -> 93
A28: =A27 -> 41518 | B28: =Sheet1!$I$8 -> 65
A29: =A28 -> 41518 | B29: =Sheet1!$L$8 -> 111
A30: =A29+1 -> 41519 | B30: =Sheet1!$C$9 -> 77
A31: =A30 -> 41519 | B31: =Sheet1!$F$9 -> 87
A32: =A31 -> 41519 | B32: =Sheet1!$I$9 -> 0
A33: =A32 -> 41519 | B33: =Sheet1!$L$9 -> 85

Sheet Sheet3
